The survey was planned to achieve 5cm GSD orthophotos over residential/commercial areas, and 10cm GSD over the entire Napier City extent. Spatial accuracy of +/-3 pixels. The datasets are supplied in NZTM projection, in NZTopo50, 1:500 tiles.<\/div><\/div><\/div>
<\/div>
Reference Systems (Datum / Projection)<\/div>
- Horizontal: NZGD2000 / NZTM2000<\/li>
- Vertical: NZVD 2016 / N/A
<\/li><\/ul><\/div><\/div>",
"mapName": "2022NapierImagery4Service",
"description": "",
"copyrightText": "@ AAM 2022, Napier City Council 2022",
"supportsDynamicLayers": false,
"layers": [
{
"id": 0,
"name": "Napier_Imagery_2022_extents",
"parentLayerId": -1,
"defaultVisibility": false,
"subLayerIds": null,
"minScale": 0,
"maxScale": 0,
"type": "Feature Layer",
"geometryType": "esriGeometryPolygon",
"supportsDynamicLegends": true
},
{
"id": 1,
"name": "Napier_Imagery_2022_footprints",
"parentLayerId": -1,
"defaultVisibility": false,
"subLayerIds": null,
"minScale": 0,
"maxScale": 0,
"type": "Feature Layer",
"geometryType": "esriGeometryPolygon",
"supportsDynamicLegends": true
}
],
"tables": [],
"spatialReference": {
"wkid": 2193,
"latestWkid": 2193,
"xyTolerance": 0.001,
"zTolerance": 0.001,
"mTolerance": 0.001,
"falseX": -4020900,
"falseY": 1900,
"xyUnits": 10000,
"falseZ": -100000,
"zUnits": 10000,
"falseM": -100000,
"mUnits": 10000
},
"singleFusedMapCache": true,
"tileInfo": {
"rows": 256,
"cols": 256,
"dpi": 96,
"format": "JPEG",
"compressionQuality": 75,
"origin": {
"x": -4020900,
"y": 19998100
},
"spatialReference": {
"wkid": 2193,
"latestWkid": 2193,
"xyTolerance": 1.0E-4,
"zTolerance": 0.001,
"mTolerance": 0.001,
"falseX": -4020900,
"falseY": 1900,
"xyUnits": 4.504455473910538E8,
"falseZ": -100000,
"zUnits": 10000,
"falseM": -100000,
"mUnits": 10000
},
"lods": [
{
"level": 0,
"resolution": 156543.03392799935,
"scale": 5.91657527591552E8
},
{
"level": 1,
"resolution": 78271.51696399967,
"scale": 2.95828763795776E8
},
{
"level": 2,
"resolution": 39135.75848199984,
"scale": 1.47914381897888E8
},
{
"level": 3,
"resolution": 19567.87924099992,
"scale": 7.3957190948944E7
},
{
"level": 4,
"resolution": 9783.93962049996,
"scale": 3.6978595474472E7
},
{
"level": 5,
"resolution": 4891.96981024998,
"scale": 1.8489297737236E7
},
{
"level": 6,
"resolution": 2445.98490512499,
"scale": 9244648.868618
},
{
"level": 7,
"resolution": 1222.992452562495,
"scale": 4622324.434309
},
{
"level": 8,
"resolution": 611.4962262813797,
"scale": 2311162.217155
},
{
"level": 9,
"resolution": 305.74811314055756,
"scale": 1155581.108577
},
{
"level": 10,
"resolution": 152.87405657041106,
"scale": 577790.554289
},
{
"level": 11,
"resolution": 76.43702828507324,
"scale": 288895.277144
},
{
"level": 12,
"resolution": 38.21851414253662,
"scale": 144447.638572
},
{
"level": 13,
"resolution": 19.10925707126831,
"scale": 72223.819286
},
{
"level": 14,
"resolution": 9.554628535634155,
"scale": 36111.909643
},
{
"level": 15,
"resolution": 4.77731426794937,
"scale": 18055.954822
},
{
"level": 16,
"resolution": 2.388657133974685,
"scale": 9027.977411
},
{
"level": 17,
"resolution": 1.1943285668550503,
"scale": 4513.988705
},
{
"level": 18,
"resolution": 0.5971642835598172,
"scale": 2256.994353
},
{
"level": 19,
"resolution": 0.29858214164761665,
"scale": 1128.497176
},
{
"level": 20,
"resolution": 0.14929107082380833,
"scale": 564.248588
},
{
"level": 21,
"resolution": 0.07464553541190416,
"scale": 282.124294
},
{
"level": 22,
"resolution": 0.03732276770595208,
"scale": 141.062147
},
{
"level": 23,
"resolution": 0.01866138385297604,
"scale": 70.5310735
}
]
},
"storageInfo": {
"storageFormat": "esriMapCacheStorageModeCompactV2",
"packetSize": 128
},
"initialExtent": {
"xmin": 1916869.6681775255,
"ymin": 5611226.2825359935,
"xmax": 1948170.3318224745,
"ymax": 5634213.7174640065,
"spatialReference": {
"wkid": 2193,
"latestWkid": 2193,
"xyTolerance": 0.001,
"zTolerance": 0.001,
"mTolerance": 0.001,
"falseX": -4020900,
"falseY": 1900,
"xyUnits": 10000,
"falseZ": -100000,
"zUnits": 10000,
"falseM": -100000,
"mUnits": 10000
}
},
"fullExtent": {
"xmin": 1927360,
"ymin": 5612280,
"xmax": 1937680,
"ymax": 5633160,
"spatialReference": {
"wkid": 2193,
"latestWkid": 2193,
"xyTolerance": 0.001,
"zTolerance": 0.001,
"mTolerance": 0.001,
"falseX": -4020900,
"falseY": 1900,
"xyUnits": 10000,
"falseZ": -100000,
"zUnits": 10000,
"falseM": -100000,
"mUnits": 10000
}
},
"datesInUnknownTimezone": false,
"minScale": 5.91657527591552E8,
"maxScale": 70.5310735,
"units": "esriMeters",
"supportedImageFormatTypes": "PNG32,PNG24,PNG,JPG,DIB,TIFF,EMF,PS,PDF,GIF,SVG,SVGZ,BMP",
"documentInfo": {
"Title": "M:\\GISWorkspaces\\ArcGISPro\\_Aprx4Services\\Imagery\\Imagery.aprx",
"Author": "",
"Comments": "",
"Subject": "",
"Category": "",
"AntialiasingMode": "None",
"TextAntialiasingMode": "Force",
"Version": "2.9.0",
"Keywords": "Napier city,aerial imagery,2022"
},
"supportsQueryDomains": true,
"capabilities": "Map,Query,Data",
"supportedQueryFormats": "JSON, geoJSON, PBF",
"exportTilesAllowed": false,
"referenceScale": 0.0,
"datumTransformations": [
{
"geoTransforms": [
{
"wkid": 1565,
"latestWkid": 1565,
"transformForward": false,
"name": "NZGD_2000_To_WGS_1984_1"
}
]
},
{
"geoTransforms": [
{
"wkid": 1565,
"latestWkid": 1565,
"transformForward": true,
"name": "NZGD_2000_To_WGS_1984_1"
}
]
},
{
"geoTransforms": [
{
"wkid": 1565,
"latestWkid": 1565,
"transformForward": false,
"name": "NZGD_2000_To_WGS_1984_1"
}
]
},
{
"geoTransforms": [
{
"wkid": 1565,
"latestWkid": 1565,
"transformForward": true,
"name": "NZGD_2000_To_WGS_1984_1"
}
]
}
],
"supportsDatumTransformation": true,
"floorAwareMapProperties": {
"defaultFloorFilterSettings": {"isEnabled": true}
},
"archivingInfo": {"supportsHistoricMoment": false},
"supportsClipping": true,
"supportsSpatialFilter": true,
"supportsTimeRelation": true,
"supportsQueryDataElements": true,
"maxRecordCount": 2000,
"maxImageHeight": 4096,
"maxImageWidth": 4096,
"supportedExtensions": "",
"resampling": false,
"serviceItemId": "3d5b0b8c0b7b4fe398aad5c76679f4e8"
}