View In:
ArcGIS JavaScript
ArcGIS Enterprise Map Viewer
ArcGIS Earth
ArcMap
ArcGIS Pro
View Footprint In:
ArcGIS Enterprise Map Viewer
Service Description: Contractor: AAM<div>Volume: PRJ39785_2<div><br /><div><div>The survey was planned to achieve 5cm GSD orthophotos over residential/commercial areas, and 10cm GSD over the entire Napier City extent. Spatial accuracy of +/-3 pixels. The datasets are supplied in NZTM projection, in NZTopo50, 1:500 tiles.</div></div></div><div><br /></div><div>Reference Systems (Datum / Projection)</div><div><ul><li>Horizontal: NZGD2000 / NZTM2000</li><li>Vertical: NZVD 2016 / N/A<img /></li></ul></div></div>
Map Name: 2022NapierImagery4Service
Legend
All Layers and Tables
Layers:
Description:
Service Item Id: 3d5b0b8c0b7b4fe398aad5c76679f4e8
Copyright Text: @ AAM 2022, Napier City Council 2022
Spatial Reference:
2193
(2193)
LatestVCSWkid(0)
Single Fused Map Cache: true
Tile Info:
- Height: 256
- Width: 256
- DPI: 96
-
Levels of Detail: 24
-
Level ID: 0
[ Start Tile, End Tile ]
- Resolution: 156543.03392799935
- Scale: 5.91657527591552E8
-
Level ID: 1
[ Start Tile, End Tile ]
- Resolution: 78271.51696399967
- Scale: 2.95828763795776E8
-
Level ID: 2
[ Start Tile, End Tile ]
- Resolution: 39135.75848199984
- Scale: 1.47914381897888E8
-
Level ID: 3
[ Start Tile, End Tile ]
- Resolution: 19567.87924099992
- Scale: 7.3957190948944E7
-
Level ID: 4
[ Start Tile, End Tile ]
- Resolution: 9783.93962049996
- Scale: 3.6978595474472E7
-
Level ID: 5
[ Start Tile, End Tile ]
- Resolution: 4891.96981024998
- Scale: 1.8489297737236E7
- Format: JPEG
- Compression Quality: 75.0
- Origin: X: -4020900.0
Y: 1.99981E7
- Spatial Reference: 2193
(2193)
LatestVCSWkid(0)
Storage Info:
- Storage Format: esriMapCacheStorageModeCompactV2
- Packet Size: 128
Initial Extent:
XMin: 1916869.6681775255
YMin: 5611226.2825359935
XMax: 1948170.3318224745
YMax: 5634213.7174640065
Spatial Reference: 2193
(2193)
LatestVCSWkid(0)
Full Extent:
XMin: 1927360.0
YMin: 5612280.0
XMax: 1937680.0
YMax: 5633160.0
Spatial Reference: 2193
(2193)
LatestVCSWkid(0)
Units: esriMeters
Supported Image Format Types: PNG32,PNG24,PNG,JPG,DIB,TIFF,EMF,PS,PDF,GIF,SVG,SVGZ,BMP
Document Info:
Title: M:\GISWorkspaces\ArcGISPro\_Aprx4Services\Imagery\Imagery.aprx
Author:
Comments:
Subject:
Category:
Keywords: Napier city,aerial imagery,2022
AntialiasingMode: None
TextAntialiasingMode: Force
Supports Dynamic Layers: false
Resampling: false
MaxRecordCount: 2000
MaxImageHeight: 4096
MaxImageWidth: 4096
Supported Query Formats: JSON, geoJSON, PBF
Supports Query Data Elements: true
Min Scale: 5.91657527591552E8
Max Scale: 70.5310735
Supports Datum Transformation: true
Child Resources:
Info
Supported Operations:
Export Map
Identify
QueryLegends
QueryDomains
Find
Return Updates